BEGIN:VCALENDAR
VERSION:2.0
PRODID:-//Frost Fest City of Penticton - ECPv6.15.12.2//NONSGML v1.0//EN
CALSCALE:GREGORIAN
METHOD:PUBLISH
X-WR-CALNAME:Frost Fest City of Penticton
X-ORIGINAL-URL:https://frostfest.ca
X-WR-CALDESC:Events for Frost Fest City of Penticton
REFRESH-INTERVAL;VALUE=DURATION:PT1H
X-Robots-Tag:noindex
X-PUBLISHED-TTL:PT1H
BEGIN:VTIMEZONE
TZID:UTC
BEGIN:STANDARD
TZOFFSETFROM:+0000
TZOFFSETTO:+0000
TZNAME:UTC
DTSTART:20250101T000000
END:STANDARD
END:VTIMEZONE
BEGIN:VEVENT
DTSTART;TZID=UTC:20260123T163000
DTEND;TZID=UTC:20260123T190000
DTSTAMP:20260421T104953
CREATED:20251125T193349Z
LAST-MODIFIED:20260116T205403Z
UID:10000004-1769185800-1769194800@frostfest.ca
SUMMARY:Hot Air Balloon Glow Up
DESCRIPTION:
URL:https://frostfest.ca/event/hot-air-balloons/
LOCATION:Okanagan Lake Park
CATEGORIES:Main Events
ATTACH;FMTTYPE=image/jpeg:https://frostfest.ca/wp-content/uploads/2025/11/600F4FE6-8C62-4B76-9A2B-D10E8222A571.jpg
END:VEVENT
END:VCALENDAR