BEGIN:VCALENDAR
VERSION:2.0
PRODID:-//Frost Fest City of Penticton - ECPv6.15.12.2//NONSGML v1.0//EN
CALSCALE:GREGORIAN
METHOD:PUBLISH
X-ORIGINAL-URL:https://frostfest.ca
X-WR-CALDESC:Events for Frost Fest City of Penticton
REFRESH-INTERVAL;VALUE=DURATION:PT1H
X-Robots-Tag:noindex
X-PUBLISHED-TTL:PT1H
BEGIN:VTIMEZONE
TZID:UTC
BEGIN:STANDARD
TZOFFSETFROM:+0000
TZOFFSETTO:+0000
TZNAME:UTC
DTSTART:20250101T000000
END:STANDARD
END:VTIMEZONE
BEGIN:VEVENT
DTSTART;TZID=UTC:20260124T120000
DTEND;TZID=UTC:20260124T200000
DTSTAMP:20260421T092348
CREATED:20251127T213104Z
LAST-MODIFIED:20251205T215539Z
UID:10000015-1769256000-1769284800@frostfest.ca
SUMMARY:Beverage Garden
DESCRIPTION:Grab a tasty beverage and take in the food lane\, hockey tournament\, and rail jam.  \n  \nHeaters provided within the tent.
URL:https://frostfest.ca/event/beverage-garden-2/
LOCATION:Outdoor Rink/City Hall Lawn
END:VEVENT
BEGIN:VEVENT
DTSTART;TZID=UTC:20260124T080000
DTEND;TZID=UTC:20260124T160000
DTSTAMP:20260421T092348
CREATED:20251127T212356Z
LAST-MODIFIED:20251215T222348Z
UID:10000012-1769241600-1769270400@frostfest.ca
SUMMARY:Frost Fest Faceoff - Day 2
DESCRIPTION:The tournament continues\, with the winner crowned at 4pm.  \n*Include tournament schedule (to be provided at a later date)
URL:https://frostfest.ca/event/3-on-3-hockey-tournament-2/
LOCATION:Outdoor Rink/City Hall Lawn
ATTACH;FMTTYPE=image/png:https://frostfest.ca/wp-content/uploads/2025/12/Frost-Fest-Faceoff-Logo.png
END:VEVENT
END:VCALENDAR