BEGIN:VCALENDAR
VERSION:2.0
PRODID:-//Frost Fest City of Penticton - ECPv6.15.12.2//NONSGML v1.0//EN
CALSCALE:GREGORIAN
METHOD:PUBLISH
X-ORIGINAL-URL:https://frostfest.ca
X-WR-CALDESC:Events for Frost Fest City of Penticton
REFRESH-INTERVAL;VALUE=DURATION:PT1H
X-Robots-Tag:noindex
X-PUBLISHED-TTL:PT1H
BEGIN:VTIMEZONE
TZID:UTC
BEGIN:STANDARD
TZOFFSETFROM:+0000
TZOFFSETTO:+0000
TZNAME:UTC
DTSTART:20250101T000000
END:STANDARD
END:VTIMEZONE
BEGIN:VEVENT
DTSTART;TZID=UTC:20260123T173000
DTEND;TZID=UTC:20260123T210000
DTSTAMP:20260419T163737
CREATED:20251127T211906Z
LAST-MODIFIED:20260111T054124Z
UID:10000010-1769189400-1769202000@frostfest.ca
SUMMARY:Frost Fest Gala
DESCRIPTION:The Frost Fest Gala returns at the scenic Poplar Grove Winery. A formal event\, giving you a reason to get out on a frosty evening. This experience will include a full course dinner\, delicious cocktails\, great wine\, and live entertainment. \nTickets are limited – Click here for tickets and more information.
URL:https://frostfest.ca/event/frost-fest-gala/
LOCATION:Poplar Grove Winery
CATEGORIES:events,Main Events
ATTACH;FMTTYPE=image/png:https://frostfest.ca/wp-content/uploads/2025/11/Frost-Fest-2026-Gala-Dinner-16-x-9-in-1.png
END:VEVENT
END:VCALENDAR