BEGIN:VCALENDAR
VERSION:2.0
PRODID:-//Frost Fest City of Penticton - ECPv6.15.12.2//NONSGML v1.0//EN
CALSCALE:GREGORIAN
METHOD:PUBLISH
X-WR-CALNAME:Frost Fest City of Penticton
X-ORIGINAL-URL:https://frostfest.ca
X-WR-CALDESC:Events for Frost Fest City of Penticton
REFRESH-INTERVAL;VALUE=DURATION:PT1H
X-Robots-Tag:noindex
X-PUBLISHED-TTL:PT1H
BEGIN:VTIMEZONE
TZID:UTC
BEGIN:STANDARD
TZOFFSETFROM:+0000
TZOFFSETTO:+0000
TZNAME:UTC
DTSTART:20250101T000000
END:STANDARD
END:VTIMEZONE
BEGIN:VEVENT
DTSTART;TZID=UTC:20260124T190000
DTEND;TZID=UTC:20260124T190000
DTSTAMP:20260421T094847
CREATED:20251127T213441Z
LAST-MODIFIED:20251212T220403Z
UID:10000017-1769281200-1769281200@frostfest.ca
SUMMARY:Arctic Afterparty
DESCRIPTION:Celebrate the day\, unwind and warm up indoors at BNA Brewing for the Arctic Afterparty! Take in food & drink specials and a live DJ\, all while thawing out after an epic day outside. Visit BNA Brewing’s website for a glance at their menu.  \nNote: BNA is open for all ages until 10pm\, when it then becomes 19+.
URL:https://frostfest.ca/event/thaw-out-afterparty/
LOCATION:BNA Brewing Co.\, 218 Martin Street\, Penticton\, BC\, V2A 5K3\, Canada
END:VEVENT
END:VCALENDAR